BEGIN:VCALENDAR
VERSION:2.0
PRODID:-//Hannah Branigan – Wonderpups Training - ECPv5.12.0//NONSGML v1.0//EN
CALSCALE:GREGORIAN
METHOD:PUBLISH
X-WR-CALNAME:Hannah Branigan – Wonderpups Training
X-ORIGINAL-URL:https://hannahbranigan.dog
X-WR-CALDESC:Events for Hannah Branigan – Wonderpups Training
BEGIN:VTIMEZONE
TZID:America/New_York
BEGIN:DAYLIGHT
TZOFFSETFROM:-0500
TZOFFSETTO:-0400
TZNAME:EDT
DTSTART:20190310T070000
END:DAYLIGHT
BEGIN:STANDARD
TZOFFSETFROM:-0400
TZOFFSETTO:-0500
TZNAME:EST
DTSTART:20191103T060000
END:STANDARD
END:VTIMEZONE
BEGIN:VEVENT
DTSTART;VALUE=DATE:20190803
DTEND;VALUE=DATE:20190805
DTSTAMP:20260421T044750
CREATED:20190318T031804Z
LAST-MODIFIED:20190318T031855Z
UID:4565-1564790400-1564963199@hannahbranigan.dog
SUMMARY:Glasgow Dog Trainer
DESCRIPTION:
URL:https://hannahbranigan.dog/event/glasgow-dog-trainer/
LOCATION:The Pet Empawrium\, United States
CATEGORIES:Live Events
ATTACH;FMTTYPE=image/png:https://hannahbranigan.dog/wp-content/uploads/HAWS-logo_358x123.png
END:VEVENT
END:VCALENDAR